BEGIN:VCALENDAR
VERSION:2.0
PRODID:-//Circ Bover - ECPv6.0.10//NONSGML v1.0//EN
CALSCALE:GREGORIAN
METHOD:PUBLISH
X-WR-CALNAME:Circ Bover
X-ORIGINAL-URL:https://circbover.com
X-WR-CALDESC:Esdeveniments per Circ Bover
REFRESH-INTERVAL;VALUE=DURATION:PT1H
X-Robots-Tag:noindex
X-PUBLISHED-TTL:PT1H
BEGIN:VTIMEZONE
TZID:UTC
BEGIN:STANDARD
TZOFFSETFROM:+0000
TZOFFSETTO:+0000
TZNAME:UTC
DTSTART:20240101T000000
END:STANDARD
END:VTIMEZONE
BEGIN:VEVENT
DTSTART;TZID=UTC:20241006T120000
DTEND;TZID=UTC:20241006T125000
DTSTAMP:20260421T115853
CREATED:20230317T141810Z
LAST-MODIFIED:20240829T123958Z
UID:10000003-1728216000-1728219000@circbover.com
SUMMARY:CircArt - Miss Elastic
DESCRIPTION:L’artista Valery ens presenta un show de varietes on petits i gran podran gaudir de diciplines de circ tradicionals: contorsions\, hulla hoop\, dansa\, malabars i tir amb arc. \n\nApte per a tots els públics\nSense text
URL:https://circbover.com/evento/circart-misselastic/
LOCATION:Plaça Miquel Capllonch\, Pollença
ATTACH;FMTTYPE=image/jpeg:https://circbover.com/wp-content/uploads/2023/03/1537566666104.jpg
END:VEVENT
END:VCALENDAR