BEGIN:VCALENDAR
VERSION:2.0
PRODID:-//Circ Bover - ECPv6.0.10//NONSGML v1.0//EN
CALSCALE:GREGORIAN
METHOD:PUBLISH
X-WR-CALNAME:Circ Bover
X-ORIGINAL-URL:https://circbover.com
X-WR-CALDESC:Esdeveniments per Circ Bover
REFRESH-INTERVAL;VALUE=DURATION:PT1H
X-Robots-Tag:noindex
X-PUBLISHED-TTL:PT1H
BEGIN:VTIMEZONE
TZID:UTC
BEGIN:STANDARD
TZOFFSETFROM:+0000
TZOFFSETTO:+0000
TZNAME:UTC
DTSTART:20240101T000000
END:STANDARD
END:VTIMEZONE
BEGIN:VEVENT
DTSTART;TZID=UTC:20240602T201500
DTEND;TZID=UTC:20240602T210500
DTSTAMP:20260421T085618
CREATED:20230317T141042Z
LAST-MODIFIED:20240829T131151Z
UID:10000002-1717359300-1717362300@circbover.com
SUMMARY:Festival Internacional de Circo - Àvol
DESCRIPTION:
URL:https://circbover.com/evento/festivalinternacionalcirco-avol/
ATTACH;FMTTYPE=image/jpeg:https://circbover.com/wp-content/uploads/2024/08/192150131_10158307135215493_3952809351265697410_n.jpg
END:VEVENT
END:VCALENDAR